BEGIN:VCALENDAR
VERSION:2.0
PRODID:-//Meersaal - ECPv6.15.20//NONSGML v1.0//EN
CALSCALE:GREGORIAN
METHOD:PUBLISH
X-ORIGINAL-URL:https://meersaal.de
X-WR-CALDESC:Veranstaltungen für Meersaal
REFRESH-INTERVAL;VALUE=DURATION:PT1H
X-Robots-Tag:noindex
X-PUBLISHED-TTL:PT1H
BEGIN:VTIMEZONE
TZID:UTC
BEGIN:STANDARD
TZOFFSETFROM:+0000
TZOFFSETTO:+0000
TZNAME:UTC
DTSTART:20240101T000000
END:STANDARD
END:VTIMEZONE
BEGIN:VEVENT
DTSTART;TZID=UTC:20250530T183000
DTEND;TZID=UTC:20250530T203000
DTSTAMP:20260424T131236
CREATED:20250520T181703Z
LAST-MODIFIED:20250524T113343Z
UID:1201-1748629800-1748637000@meersaal.de
SUMMARY:mitFilm - Gundermann
DESCRIPTION:Hallo ihr Lieben\,\nWir laden euch herzlich zu unserem neuen Format „mitFilm“ ein – ein Mitbring-Kino-Abend für alle.\nIm Laufe der Saison zeigen wir jede Woche verschiedene Filme; von den guten alten Klassikern über Kinder-Filme hin zu Programm-Filmen.\nDamit nicht nur in der Film-Auswahl für alle etwas dabei ist\, möchten wir gemeinsam mit euch für jeden Kinoabend ein Büffet mit unseren Lieblings-Snacks zusammenstellen.\nBringt also eure Favoriten mit und bedient euch an unserem dann hoffentlich ganz bunten Büffet. Von salzig\, über süß und sauer sind alle Snacks und Speisen erwünscht.\nGetränke könnt ihr käuflich bei uns erwerben. \nDer Eintritt für diesen Abend beträgt 5 Euro pro Person\, Kinder und Jugendliche bis 16 Jahre können kostenfrei dabei sein.\nWir starten die Filme um 18:30 Uhr\, also kommt gerne ein bisschen früher um es euch richtig gemütlich zu machen.\nWir freuen uns auf euch\, eine gemütliche Atmosphäre\, nette Gespräche und eine lustige Zeit zusammen!\nEuer Meersaal-Team \nBei dem Film geht es um folgendes: \nGUNDERMANN erzählt von einem Baggerfahrer\, der Lieder schreibt. Der ein Poet ist\, ein Clown und ein Idealist. Der träumt und hofft und liebt und kämpft. Ein Spitzel\, der bespitzelt wird. Ein Weltverbesserer\, der es nicht besser weiß. Ein Zerrissener. GUNDERMANN ist Liebes- und Musikfilm\, Drama über Schuld und Verstrickung\, eine Geschichte vom Verdrängen und Sich-Stellen. GUNDERMANN ist ein Film über Heimat. Er blickt noch einmal neu auf ein verschwundenes Land. Es ist nicht zu spät dafür. Es ist an der Zeit.
URL:https://meersaal.de/event/mitfilm-gundermann/
LOCATION:Meersaal\, Schaulbarg 13a\, Hiddensee\, Mecklenburg-Vorpommern\, 18565\, Germany
CATEGORIES:Kino
ATTACH;FMTTYPE=image/jpeg:https://meersaal.de/wp-content/uploads/2025/05/mitFilm_03.jpg
ORGANIZER;CN="Meersaal e.V.":MAILTO:johann30699@gmail.com
END:VEVENT
END:VCALENDAR