BEGIN:VCALENDAR
VERSION:2.0
PRODID:-//Meersaal - ECPv6.15.20//NONSGML v1.0//EN
CALSCALE:GREGORIAN
METHOD:PUBLISH
X-ORIGINAL-URL:https://meersaal.de
X-WR-CALDESC:Veranstaltungen für Meersaal
REFRESH-INTERVAL;VALUE=DURATION:PT1H
X-Robots-Tag:noindex
X-PUBLISHED-TTL:PT1H
BEGIN:VTIMEZONE
TZID:UTC
BEGIN:STANDARD
TZOFFSETFROM:+0000
TZOFFSETTO:+0000
TZNAME:UTC
DTSTART:20240101T000000
END:STANDARD
END:VTIMEZONE
BEGIN:VEVENT
DTSTART;TZID=UTC:20250702T190000
DTEND;TZID=UTC:20250702T210000
DTSTAMP:20260424T113848
CREATED:20250602T114509Z
LAST-MODIFIED:20250602T114843Z
UID:1237-1751482800-1751490000@meersaal.de
SUMMARY:Lieder aus den besten Jahren
DESCRIPTION:Marta Doehler-Behzadi singt über Konfusionen und Illusionen bis in die Gegenwart hinein: \nWaren die 20er Jahre wirklich golden?\nWaren die 60 wild? und die 90er aufregend oder eher anstrengend? \nKlavier: Martin Wille
URL:https://meersaal.de/event/lieder-aus-den-besten-jahren/
LOCATION:Meersaal\, Schaulbarg 13a\, Hiddensee\, Mecklenburg-Vorpommern\, 18565\, Germany
CATEGORIES:Konzert
ATTACH;FMTTYPE=image/jpeg:https://meersaal.de/wp-content/uploads/2025/06/Screenshot-2025-06-02-132829.jpg
END:VEVENT
END:VCALENDAR