BEGIN:VCALENDAR
VERSION:2.0
PRODID:-//Meersaal - ECPv6.15.20//NONSGML v1.0//EN
CALSCALE:GREGORIAN
METHOD:PUBLISH
X-WR-CALNAME:Meersaal
X-ORIGINAL-URL:https://meersaal.de
X-WR-CALDESC:Veranstaltungen für Meersaal
REFRESH-INTERVAL;VALUE=DURATION:PT1H
X-Robots-Tag:noindex
X-PUBLISHED-TTL:PT1H
BEGIN:VTIMEZONE
TZID:UTC
BEGIN:STANDARD
TZOFFSETFROM:+0000
TZOFFSETTO:+0000
TZNAME:UTC
DTSTART:20240101T000000
END:STANDARD
END:VTIMEZONE
BEGIN:VEVENT
DTSTART;TZID=UTC:20250711T160000
DTEND;TZID=UTC:20250711T233000
DTSTAMP:20260424T113536
CREATED:20241029T092944Z
LAST-MODIFIED:20250512T104422Z
UID:1057-1752249600-1752276600@meersaal.de
SUMMARY:Tanztee am Strand von Neuendorf
DESCRIPTION:Das Tanzen am Strand geht wieder los! Auch dieses Jahr wird wieder ein Tanztee am ersten Strandaufgang am Neuendorfer Ortseingang veranstaltet.\nKommt zahlreich und bringt Oma\, Kind\, Ausdauer und gute Laune mit\, denn wir wollen den Sand fliegen sehen bei entspannter bis gewaltiger Musik.
URL:https://meersaal.de/event/tanztee-am-strand-von-neuendorf/
LOCATION:Erster Strandaufgang Neuendorf\, 54.529383\, 13.084142\, Neuendorf\, 18565
CATEGORIES:Tanztee
ATTACH;FMTTYPE=image/jpeg:https://meersaal.de/wp-content/uploads/2024/10/Tanztee_Plakat_11.07.25.jpg
END:VEVENT
END:VCALENDAR