BEGIN:VCALENDAR
VERSION:2.0
PRODID:-//Meersaal - ECPv6.15.20//NONSGML v1.0//EN
CALSCALE:GREGORIAN
METHOD:PUBLISH
X-ORIGINAL-URL:https://meersaal.de
X-WR-CALDESC:Veranstaltungen für Meersaal
REFRESH-INTERVAL;VALUE=DURATION:PT1H
X-Robots-Tag:noindex
X-PUBLISHED-TTL:PT1H
BEGIN:VTIMEZONE
TZID:UTC
BEGIN:STANDARD
TZOFFSETFROM:+0000
TZOFFSETTO:+0000
TZNAME:UTC
DTSTART:20240101T000000
END:STANDARD
END:VTIMEZONE
BEGIN:VEVENT
DTSTART;TZID=UTC:20250715T190000
DTEND;TZID=UTC:20250715T210000
DTSTAMP:20260424T113729
CREATED:20250619T111700Z
LAST-MODIFIED:20250713T215548Z
UID:1267-1752606000-1752613200@meersaal.de
SUMMARY:Lesung - Jens Steinberg
DESCRIPTION:Der Maler Jens Steinberg liest im Meersaal zu Neuendorf\,\nUte Bergien spielt auf dem Akkordeon \nVon aufziehenden Gewittern\, Schwalben und Ornament. Wo hört Wort auf und wo beginnt Bild. Dazwischen ein Akkordeon\, Töne zwischen Haus\, Schuppen und Stall. Miniaturen im Gras. Klang wie von fern…\nWo sich soeben noch kalkweisse Neuendorfer Hauswand vom bedrohlich düsterem Himmel absetzte\, beginnt drei Sonnenstrahlen weiter bereits das nächste Leben…\nDer Roman Kapitänsblau\, die Gedicht- und Grafikbände Beggar\, Kasper und Buddelgreun; zudem Auszüge aus bislang nicht Veröffentlichtem.\nUhrendeckel federn ins Licht\, wenn der Westwind die Wolken von der Insel vertreibt. Dann\, jetzt ist die Stunde. Seien Sie pünktlich.
URL:https://meersaal.de/event/lesung-jens-steinberg/
LOCATION:Meersaal\, Schaulbarg 13a\, Hiddensee\, Mecklenburg-Vorpommern\, 18565\, Germany
CATEGORIES:Lesung
ATTACH;FMTTYPE=image/jpeg:https://meersaal.de/wp-content/uploads/2025/06/Jens-Steinberg_Lesung-scaled.jpg
END:VEVENT
END:VCALENDAR