BEGIN:VCALENDAR
VERSION:2.0
PRODID:-//Meersaal - ECPv6.15.20//NONSGML v1.0//EN
CALSCALE:GREGORIAN
METHOD:PUBLISH
X-ORIGINAL-URL:https://meersaal.de
X-WR-CALDESC:Veranstaltungen für Meersaal
REFRESH-INTERVAL;VALUE=DURATION:PT1H
X-Robots-Tag:noindex
X-PUBLISHED-TTL:PT1H
BEGIN:VTIMEZONE
TZID:UTC
BEGIN:STANDARD
TZOFFSETFROM:+0000
TZOFFSETTO:+0000
TZNAME:UTC
DTSTART:20240101T000000
END:STANDARD
END:VTIMEZONE
BEGIN:VEVENT
DTSTART;TZID=UTC:20250718T190000
DTEND;TZID=UTC:20250718T210000
DTSTAMP:20260425T103957
CREATED:20250706T113641Z
LAST-MODIFIED:20250709T122026Z
UID:1288-1752865200-1752872400@meersaal.de
SUMMARY:Bläsergeschichten - Tailor & Son - Konzert
DESCRIPTION:Zwischen Louis Armstrong und den Beatles erklingen persönliche Stücke in funky Grooves wie der „Eis-Dieler“ oder der „Kirschkernentferner“.\nZum Durchatmen trösten „Let it Be“ oder „Scarborough Fair“. Seemännisch grüßen das „Piratenschiff Kardamena“ und welches Rätsel sich hinter „Sozialen Eiskristallen“ verbirgt\, wird sich am Abend selbst herausstellen.\nWährend im Paternoster Trompete\, Posaune & Saxophon durch die Tonlagen der Register auf und ab fahren\, führen Steven mit seinem Sohn Julz durch garantiert qualitätsgeprüfte Melodien im Duett. \nMeldet euch gerne vorher an oder kommt spontan vorbei.\nWir freuen uns auf euch\, euer Meersaal-Team
URL:https://meersaal.de/event/zwei-blaeser-tailor-son-konzert/
LOCATION:Meersaal\, Schaulbarg 13a\, Hiddensee\, Mecklenburg-Vorpommern\, 18565\, Germany
CATEGORIES:Konzert
ATTACH;FMTTYPE=image/jpeg:https://meersaal.de/wp-content/uploads/2025/07/photo_2025-07-06_22-20-53.jpg
END:VEVENT
END:VCALENDAR