BEGIN:VCALENDAR
VERSION:2.0
PRODID:-//Meersaal - ECPv6.15.20//NONSGML v1.0//EN
CALSCALE:GREGORIAN
METHOD:PUBLISH
X-ORIGINAL-URL:https://meersaal.de
X-WR-CALDESC:Veranstaltungen für Meersaal
REFRESH-INTERVAL;VALUE=DURATION:PT1H
X-Robots-Tag:noindex
X-PUBLISHED-TTL:PT1H
BEGIN:VTIMEZONE
TZID:UTC
BEGIN:STANDARD
TZOFFSETFROM:+0000
TZOFFSETTO:+0000
TZNAME:UTC
DTSTART:20240101T000000
END:STANDARD
END:VTIMEZONE
BEGIN:VEVENT
DTSTART;TZID=UTC:20250725T190000
DTEND;TZID=UTC:20250725T203000
DTSTAMP:20260422T222842
CREATED:20250724T065941Z
LAST-MODIFIED:20250724T070425Z
UID:1320-1753470000-1753475400@meersaal.de
SUMMARY:Lesung - WIR BLEIBEN WIR: Franca und Ed
DESCRIPTION:Am Freitag wird Thekla aus ihrem Buch „WIR BLEIBEN WIR: Franca und Ed“ lesen und Hintergründe zu dem Buch veranschaulichen. \nDas Buch behandelt ein Paar zwischen Macht und Nähe\, WG-Leben\, Stadtplanung\, \npolitischen Gesprächen und persönlichem Aufbruch – zeitgeistlich\, klug\, nah\, wild und zärtlich. \n  \nKommt vorbei und verbringt einen geistreichen Abend im Meersaal mit Thekla. \nWir freuen uns auf eine schöne Lesung und angeregte Gespräche.
URL:https://meersaal.de/event/lesung-wir-bleiben-wir-franca-und-ed-2/
LOCATION:Meersaal\, Schaulbarg 13a\, Hiddensee\, Mecklenburg-Vorpommern\, 18565\, Germany
CATEGORIES:Lesung
ATTACH;FMTTYPE=image/jpeg:https://meersaal.de/wp-content/uploads/2025/07/IMG_20250718_100236_753.jpg
END:VEVENT
END:VCALENDAR