BEGIN:VCALENDAR
VERSION:2.0
PRODID:-//Meersaal - ECPv6.15.20//NONSGML v1.0//EN
CALSCALE:GREGORIAN
METHOD:PUBLISH
X-ORIGINAL-URL:https://meersaal.de
X-WR-CALDESC:Veranstaltungen für Meersaal
REFRESH-INTERVAL;VALUE=DURATION:PT1H
X-Robots-Tag:noindex
X-PUBLISHED-TTL:PT1H
BEGIN:VTIMEZONE
TZID:UTC
BEGIN:STANDARD
TZOFFSETFROM:+0000
TZOFFSETTO:+0000
TZNAME:UTC
DTSTART:20240101T000000
END:STANDARD
END:VTIMEZONE
BEGIN:VEVENT
DTSTART;TZID=UTC:20250727T170000
DTEND;TZID=UTC:20250727T190000
DTSTAMP:20260422T190051
CREATED:20250722T144926Z
LAST-MODIFIED:20250722T144926Z
UID:1311-1753635600-1753642800@meersaal.de
SUMMARY:Quiz-Tee
DESCRIPTION:Am 27.7. werden wir endlich wieder unsere Art eines Kneipenquizzes veranstalten. Es wird Fragen aus verschiedenen Kategorien geben\, wo alle Altersgruppen Spaß beim quizzen haben werden. \nKommt in Gruppen oder auch alleine vorbei. Es werden sich Teams finden 🙂 \nAnmeldung der Teams beginnt 16:30 und 17:00 geht es dann los. \nWir freuen uns auf euch! \nLiebe Grüße euer Meersaal-Team
URL:https://meersaal.de/event/quiz-tee/
LOCATION:Meersaal\, Schaulbarg 13a\, Hiddensee\, Mecklenburg-Vorpommern\, 18565\, Germany
CATEGORIES:Quiz-Tee
ATTACH;FMTTYPE=image/jpeg:https://meersaal.de/wp-content/uploads/2025/07/Quiz-Tee_27.07.25-scaled.jpg
END:VEVENT
END:VCALENDAR