BEGIN:VCALENDAR
VERSION:2.0
PRODID:-//Meersaal - ECPv6.15.20//NONSGML v1.0//EN
CALSCALE:GREGORIAN
METHOD:PUBLISH
X-WR-CALNAME:Meersaal
X-ORIGINAL-URL:https://meersaal.de
X-WR-CALDESC:Veranstaltungen für Meersaal
REFRESH-INTERVAL;VALUE=DURATION:PT1H
X-Robots-Tag:noindex
X-PUBLISHED-TTL:PT1H
BEGIN:VTIMEZONE
TZID:UTC
BEGIN:STANDARD
TZOFFSETFROM:+0000
TZOFFSETTO:+0000
TZNAME:UTC
DTSTART:20240101T000000
END:STANDARD
END:VTIMEZONE
BEGIN:VEVENT
DTSTART;TZID=UTC:20250730T183000
DTEND;TZID=UTC:20250730T203000
DTSTAMP:20260422T173810
CREATED:20250722T143946Z
LAST-MODIFIED:20250722T144109Z
UID:1306-1753900200-1753907400@meersaal.de
SUMMARY:mitFilm - Das Lehrerzimmer
DESCRIPTION:Hallo ihr Lieben\,\nWir laden euch herzlich zu unserem neuen Format „mitFilm“ ein – ein Mitbring-Kino-Abend für alle.\nIm Laufe der Saison zeigen wir jede Woche verschiedene Filme; von den guten alten Klassikern über Kinder-Filme hin zu Programm-Filmen.\nDamit nicht nur in der Film-Auswahl für alle etwas dabei ist\, möchten wir gemeinsam mit euch für jeden Kinoabend ein Büffet mit unseren Lieblings-Snacks zusammenstellen.\nBringt also eure Favoriten mit und bedient euch an unserem dann hoffentlich ganz bunten Büffet. Von salzig\, über süß und sauer sind alle Snacks und Speisen erwünscht.\nGetränke könnt ihr käuflich bei uns erwerben. \nDer Eintritt für diesen Abend beträgt 5 Euro pro Person\, Kinder und Jugendliche bis 16 Jahre können kostenfrei dabei sein.\nWir starten die Filme um 18:30 Uhr\, also kommt gerne ein bisschen früher um es euch richtig gemütlich zu machen.\nWir freuen uns auf euch\, eine gemütliche Atmosphäre\, nette Gespräche und eine lustige Zeit zusammen!\nEuer Meersaal-Team \nBei dem Film geht es um folgendes: \nCarla Nowak (Leonie Benesch)\, eine engagierte Sport- und Mathematiklehrerin\, tritt ihre erste Stelle an einem Gymnasium an. Im neuen Kollegium fällt sie durch ihren Idealismus auf. Als es an der Schule zu einer Reihe von Diebstählen kommt und einer ihrer Schüler verdächtigt wird\, beschließt sie\, der Sache eigenständig auf den Grund zu gehen. Zwischen empörten Eltern\, rechthaberischen Kollegen und angriffslustigen Schülern versucht Carla zu vermitteln\, wird dabei jedoch schonungslos mit den Strukturen des Systems Schule konfrontiert. Je verzweifelter sie sich bemüht\, alles richtig zu machen\, desto mehr droht die junge Lehrerin daran zu zerbrechen.
URL:https://meersaal.de/event/mitfilm-das-lehrerzimmer/
LOCATION:Meersaal\, Schaulbarg 13a\, Hiddensee\, Mecklenburg-Vorpommern\, 18565\, Germany
CATEGORIES:Kino
ATTACH;FMTTYPE=image/jpeg:https://meersaal.de/wp-content/uploads/2025/07/mitFilm_09-scaled.jpg
END:VEVENT
END:VCALENDAR