BEGIN:VCALENDAR
VERSION:2.0
PRODID:-//Meersaal - ECPv6.15.20//NONSGML v1.0//EN
CALSCALE:GREGORIAN
METHOD:PUBLISH
X-ORIGINAL-URL:https://meersaal.de
X-WR-CALDESC:Veranstaltungen für Meersaal
REFRESH-INTERVAL;VALUE=DURATION:PT1H
X-Robots-Tag:noindex
X-PUBLISHED-TTL:PT1H
BEGIN:VTIMEZONE
TZID:UTC
BEGIN:STANDARD
TZOFFSETFROM:+0000
TZOFFSETTO:+0000
TZNAME:UTC
DTSTART:20240101T000000
END:STANDARD
END:VTIMEZONE
BEGIN:VEVENT
DTSTART;TZID=UTC:20250731T190000
DTEND;TZID=UTC:20250731T210000
DTSTAMP:20260422T174050
CREATED:20250727T204047Z
LAST-MODIFIED:20250727T204047Z
UID:1333-1753988400-1753995600@meersaal.de
SUMMARY:Grooving bodies - Tanzworkshop
DESCRIPTION:Wir verfallen unserem eigenen tanzenden Körper mit seinen intuitiven\, leidenschaftlichen und selbstbestimmten Bewegungen. Wir erfahren Tanzen als radikalen Selbstausdruck\, als Abenteuer und als im Kollektiv gestalteten Raum. \nCome as you are! Deine Bewegungen sind es\, die dich und den Raum in dem du tanzt lebendig machen. \nIch freu mich auf euren groove 😉 \nHelena
URL:https://meersaal.de/event/grooving-bodies-tanzworkshop/
LOCATION:Meersaal\, Schaulbarg 13a\, Hiddensee\, Mecklenburg-Vorpommern\, 18565\, Germany
ATTACH;FMTTYPE=image/jpeg:https://meersaal.de/wp-content/uploads/2025/07/photo_2025-07-27_22-40-05.jpg
END:VEVENT
END:VCALENDAR