BEGIN:VCALENDAR
VERSION:2.0
PRODID:-//Meersaal - ECPv6.15.20//NONSGML v1.0//EN
CALSCALE:GREGORIAN
METHOD:PUBLISH
X-ORIGINAL-URL:https://meersaal.de
X-WR-CALDESC:Veranstaltungen für Meersaal
REFRESH-INTERVAL;VALUE=DURATION:PT1H
X-Robots-Tag:noindex
X-PUBLISHED-TTL:PT1H
BEGIN:VTIMEZONE
TZID:UTC
BEGIN:STANDARD
TZOFFSETFROM:+0000
TZOFFSETTO:+0000
TZNAME:UTC
DTSTART:20240101T000000
END:STANDARD
END:VTIMEZONE
BEGIN:VEVENT
DTSTART;TZID=UTC:20250801T190000
DTEND;TZID=UTC:20250801T203000
DTSTAMP:20260422T173335
CREATED:20250516T120834Z
LAST-MODIFIED:20250731T075910Z
UID:1180-1754074800-1754080200@meersaal.de
SUMMARY:Lieder und Texte zwischen Himmel und Erde
DESCRIPTION:Wir freuen uns auf einen schönen Abend welchen Ulrike Meyer-Heieis und Matthias Werner musikalisch gestalten werden und Beate Block aus dem Buch: “Erst wägen\, dann wagen – Laurette Schillings Kamp um die Schatzinsel“ lesen wird.
URL:https://meersaal.de/event/liederabend-ulrike-meyer/
LOCATION:Meersaal\, Schaulbarg 13a\, Hiddensee\, Mecklenburg-Vorpommern\, 18565\, Germany
CATEGORIES:Konzert
ATTACH;FMTTYPE=image/jpeg:https://meersaal.de/wp-content/uploads/2025/05/photo_2025-05-16_14-07-41.jpg
ORGANIZER;CN="Meersaal e.V.":MAILTO:johann30699@gmail.com
END:VEVENT
END:VCALENDAR