BEGIN:VCALENDAR
VERSION:2.0
PRODID:-//Meersaal - ECPv6.15.20//NONSGML v1.0//EN
CALSCALE:GREGORIAN
METHOD:PUBLISH
X-WR-CALNAME:Meersaal
X-ORIGINAL-URL:https://meersaal.de
X-WR-CALDESC:Veranstaltungen für Meersaal
REFRESH-INTERVAL;VALUE=DURATION:PT1H
X-Robots-Tag:noindex
X-PUBLISHED-TTL:PT1H
BEGIN:VTIMEZONE
TZID:UTC
BEGIN:STANDARD
TZOFFSETFROM:+0000
TZOFFSETTO:+0000
TZNAME:UTC
DTSTART:20240101T000000
END:STANDARD
END:VTIMEZONE
BEGIN:VEVENT
DTSTART;TZID=UTC:20250818T190000
DTEND;TZID=UTC:20250818T190000
DTSTAMP:20260422T174755
CREATED:20250817T215739Z
LAST-MODIFIED:20250817T215950Z
UID:1370-1755543600-1755543600@meersaal.de
SUMMARY:Vortrag - Klar im Kopf ein Leben lang
DESCRIPTION:Klar im Kopf – Ein Leben lang  \nWie wir unser Gehirn stärken können  \nWas hält unser Gehirn fit? Wie können wir der Entwicklung einer Demenz vorbeugen – und was sagt die aktuelle Forschung dazu? \nIn diesem allgemeinverständlichen Vortrag gibt Frau Prof. Dr. med. Steffi Riedel-Heller (Universität Leipzig) einen Überblick über den aktuellen Stand der Wissenschaft zur Demenzprävention. Die gute Nachricht: Vieles liegt in unserer eigenen Hand. \nEin Vortrag für alle\, die bewusst älter werden wollen. \n  \n 
URL:https://meersaal.de/event/vortrag-klar-im-kopf-ein-leben-lang/
LOCATION:Meersaal\, Schaulbarg 13a\, Hiddensee\, Mecklenburg-Vorpommern\, 18565\, Germany
CATEGORIES:Vortrag
ATTACH;FMTTYPE=image/jpeg:https://meersaal.de/wp-content/uploads/2025/08/IMG_20250816_095917_267-scaled.jpg
END:VEVENT
END:VCALENDAR