BEGIN:VCALENDAR
VERSION:2.0
PRODID:-//Meersaal - ECPv6.15.20//NONSGML v1.0//EN
CALSCALE:GREGORIAN
METHOD:PUBLISH
X-ORIGINAL-URL:https://meersaal.de
X-WR-CALDESC:Veranstaltungen für Meersaal
REFRESH-INTERVAL;VALUE=DURATION:PT1H
X-Robots-Tag:noindex
X-PUBLISHED-TTL:PT1H
BEGIN:VTIMEZONE
TZID:UTC
BEGIN:STANDARD
TZOFFSETFROM:+0000
TZOFFSETTO:+0000
TZNAME:UTC
DTSTART:20240101T000000
END:STANDARD
END:VTIMEZONE
BEGIN:VEVENT
DTSTART;TZID=UTC:20250822T160000
DTEND;TZID=UTC:20250822T233000
DTSTAMP:20260422T172944
CREATED:20241029T093207Z
LAST-MODIFIED:20250817T220521Z
UID:1061-1755878400-1755905400@meersaal.de
SUMMARY:Tanztee am Strand von Neuendorf
DESCRIPTION:
URL:https://meersaal.de/event/tanztee-am-strand-von-neuendorf-3/
LOCATION:Erster Strandaufgang Neuendorf\, 54.529383\, 13.084142\, Neuendorf\, 18565
CATEGORIES:Tanztee
ATTACH;FMTTYPE=image/jpeg:https://meersaal.de/wp-content/uploads/2024/10/Tanztee_Plakat_22.08.25.jpg
END:VEVENT
END:VCALENDAR