BEGIN:VCALENDAR
VERSION:2.0
PRODID:-//Meersaal - ECPv6.15.20//NONSGML v1.0//EN
CALSCALE:GREGORIAN
METHOD:PUBLISH
X-ORIGINAL-URL:https://meersaal.de
X-WR-CALDESC:Veranstaltungen für Meersaal
REFRESH-INTERVAL;VALUE=DURATION:PT1H
X-Robots-Tag:noindex
X-PUBLISHED-TTL:PT1H
BEGIN:VTIMEZONE
TZID:UTC
BEGIN:STANDARD
TZOFFSETFROM:+0000
TZOFFSETTO:+0000
TZNAME:UTC
DTSTART:20240101T000000
END:STANDARD
END:VTIMEZONE
BEGIN:VEVENT
DTSTART;TZID=UTC:20250826T190000
DTEND;TZID=UTC:20250826T210000
DTSTAMP:20260422T181122
CREATED:20250821T102438Z
LAST-MODIFIED:20250821T102438Z
UID:1375-1756234800-1756242000@meersaal.de
SUMMARY:Linda Trillhaase - Chanson & Poesie
DESCRIPTION:Lieder zu Texten von Goethe\, Heine\, Ringelnatz und vielen anderen auch weniger bekannten Dichtern. \nFür weitere Informationen schaut gerne auf ihrer Webseite vorbei: https://www.lindatrillhaase.de/musik/chanson-und-poesie
URL:https://meersaal.de/event/linda-trillhaase-chanson-poesie/
LOCATION:Meersaal\, Schaulbarg 13a\, Hiddensee\, Mecklenburg-Vorpommern\, 18565\, Germany
CATEGORIES:Konzert
ATTACH;FMTTYPE=image/jpeg:https://meersaal.de/wp-content/uploads/2025/08/Meersaal-Plakat_August-scaled.jpg
END:VEVENT
END:VCALENDAR