BEGIN:VCALENDAR
VERSION:2.0
PRODID:-//Meersaal - ECPv6.15.20//NONSGML v1.0//EN
CALSCALE:GREGORIAN
METHOD:PUBLISH
X-WR-CALNAME:Meersaal
X-ORIGINAL-URL:https://meersaal.de
X-WR-CALDESC:Veranstaltungen für Meersaal
REFRESH-INTERVAL;VALUE=DURATION:PT1H
X-Robots-Tag:noindex
X-PUBLISHED-TTL:PT1H
BEGIN:VTIMEZONE
TZID:UTC
BEGIN:STANDARD
TZOFFSETFROM:+0000
TZOFFSETTO:+0000
TZNAME:UTC
DTSTART:20240101T000000
END:STANDARD
END:VTIMEZONE
BEGIN:VEVENT
DTSTART;TZID=UTC:20250902T190000
DTEND;TZID=UTC:20250902T210000
DTSTAMP:20260422T153838
CREATED:20250805T161500Z
LAST-MODIFIED:20250805T161500Z
UID:1347-1756839600-1756846800@meersaal.de
SUMMARY:Lesung mit Ute Fritsch
DESCRIPTION:Hans Fallada und seine Liebe zu Hiddensee und zur Ostsee
URL:https://meersaal.de/event/lesung-mit-ute-fritsch-2/
LOCATION:Meersaal\, Schaulbarg 13a\, Hiddensee\, Mecklenburg-Vorpommern\, 18565\, Germany
CATEGORIES:Lesung
END:VEVENT
END:VCALENDAR