BEGIN:VCALENDAR
VERSION:2.0
PRODID:-//Meersaal - ECPv6.15.20//NONSGML v1.0//EN
CALSCALE:GREGORIAN
METHOD:PUBLISH
X-WR-CALNAME:Meersaal
X-ORIGINAL-URL:https://meersaal.de
X-WR-CALDESC:Veranstaltungen für Meersaal
REFRESH-INTERVAL;VALUE=DURATION:PT1H
X-Robots-Tag:noindex
X-PUBLISHED-TTL:PT1H
BEGIN:VTIMEZONE
TZID:UTC
BEGIN:STANDARD
TZOFFSETFROM:+0000
TZOFFSETTO:+0000
TZNAME:UTC
DTSTART:20240101T000000
END:STANDARD
END:VTIMEZONE
BEGIN:VEVENT
DTSTART;TZID=UTC:20250917T183000
DTEND;TZID=UTC:20250917T203000
DTSTAMP:20260422T153736
CREATED:20250910T143811Z
LAST-MODIFIED:20250910T143811Z
UID:1418-1758133800-1758141000@meersaal.de
SUMMARY:mitFilm - Der vermessene Mensch
DESCRIPTION:Hallo ihr Lieben\,\nWir laden euch herzlich zu unserem neuen Format „mitFilm“ ein – ein Mitbring-Kino-Abend für alle.\nIm Laufe der Saison zeigen wir jede Woche verschiedene Filme; von den guten alten Klassikern über Kinder-Filme hin zu Programm-Filmen.\nDamit nicht nur in der Film-Auswahl für alle etwas dabei ist\, möchten wir gemeinsam mit euch für jeden Kinoabend ein Büffet mit unseren Lieblings-Snacks zusammenstellen.\nBringt also eure Favoriten mit und bedient euch an unserem dann hoffentlich ganz bunten Büffet. Von salzig\, über süß und sauer sind alle Snacks und Speisen erwünscht.\nGetränke könnt ihr käuflich bei uns erwerben. \nDer Eintritt für diesen Abend beträgt 5 Euro pro Person\, Kinder und Jugendliche bis 16 Jahre können kostenfrei dabei sein.\nWir starten die Filme um 18:30 Uhr\, also kommt gerne ein bisschen früher um es euch richtig gemütlich zu machen.\nWir freuen uns auf euch\, eine gemütliche Atmosphäre\, nette Gespräche und eine lustige Zeit zusammen!\nEuer Meersaal-Team \nBei dem Film geht es um folgendes: \n  \nBerlin\, Ende des 19. Jahrhunderts. Alexander Hoffmann (Leonard Scheicher) ist ein ehrgeiziger Ethnologie-Doktorand an der Friedrich-Wilhelms-Universität. Als im Zuge der „Deutschen Kolonial-Ausstellung” eine Delegation von Herero und Nama aus „Deutsch-Südwestafrika“ nach Berlin reist\, lernt Hoffmann die Dolmetscherin der Gruppe\, Kezia Kambazembi (Girley Charlene Jazama)\, kennen. Hoffmann entwickelt ein intensives Interesse an den Herero und Nama – und widerspricht nach den Begegnungen und Gesprächen mit ihnen der gängigen evolutionistischen Rassentheorie. Kurz darauf führt der Aufstand der Herero und Nama in der Kolonie „Deutsch-Südwestafrika“ zum Krieg mit den deutschen Besatzern. Hoffmann reist im Schutz der kaiserlichen Armee durch das Land und sammelt für das Berliner Völkerkundemuseum zurückgelassene Artefakte und Kunstgegen-stände. In Wahrheit sucht er jedoch weiter nach Beweisen für seine These – und nach Kezia. Vor Ort erlebt Hoffmann mit\, wie deutsche Soldaten mit unmenschlicher Härte den Vernichtungsbefehl ausführen. Doch auch der Ethnologe überschreitet moralische Grenzen\, als er einwilligt\, seinem Berliner Professor (Peter Simonischek)\, Schädel und Skelette von toten Herero zum Zwecke der Forschung zu schicken…
URL:https://meersaal.de/event/mitfilm-der-vermessene-mensch/
LOCATION:Meersaal\, Schaulbarg 13a\, Hiddensee\, Mecklenburg-Vorpommern\, 18565\, Germany
CATEGORIES:Kino
ATTACH;FMTTYPE=image/jpeg:https://meersaal.de/wp-content/uploads/2025/09/mitFilm_10-scaled.jpg
END:VEVENT
END:VCALENDAR