BEGIN:VCALENDAR
VERSION:2.0
PRODID:-//Meersaal - ECPv6.15.20//NONSGML v1.0//EN
CALSCALE:GREGORIAN
METHOD:PUBLISH
X-WR-CALNAME:Meersaal
X-ORIGINAL-URL:https://meersaal.de
X-WR-CALDESC:Veranstaltungen für Meersaal
REFRESH-INTERVAL;VALUE=DURATION:PT1H
X-Robots-Tag:noindex
X-PUBLISHED-TTL:PT1H
BEGIN:VTIMEZONE
TZID:UTC
BEGIN:STANDARD
TZOFFSETFROM:+0000
TZOFFSETTO:+0000
TZNAME:UTC
DTSTART:20240101T000000
END:STANDARD
END:VTIMEZONE
BEGIN:VEVENT
DTSTART;TZID=UTC:20250923T190000
DTEND;TZID=UTC:20250923T203000
DTSTAMP:20260422T153758
CREATED:20250914T084408Z
LAST-MODIFIED:20250914T091937Z
UID:1421-1758654000-1758659400@meersaal.de
SUMMARY:Morgenstern – Musick
DESCRIPTION:…vom Tango zum Jazz und zurück \nMeeresrauschens entströmt dem Balg eines Akkordeons…\nDer hölzerne Corpus des Kontrabasses schwingt und Geräusche dringen aus seinem\nInneren… atmosphärische Klänge…\nSchließlich die ersten Töne. Nach und nach fügt sich ein komplexes Klangmuster\nzusammen\, man hört Phrasen aus Tango und Jazz\, Melodien von Songs und\nStandards\, Rhythmen von Samba und Swing…\nBeide Künstler spielen mit voller Leidenschaft und Perfektion traditionelle und neue\nTangos\, sowie Stücke aus dem Repertoire von L’art de passage und eigene\nKompositionen. Tangotanzpaare sind willkommen !! \n  \nTobias Morgenstern: Akkordeon\nWolfgang Musick: Bass
URL:https://meersaal.de/event/morgenstern-musick-soares/
LOCATION:Meersaal\, Schaulbarg 13a\, Hiddensee\, Mecklenburg-Vorpommern\, 18565\, Germany
CATEGORIES:Konzert
ATTACH;FMTTYPE=image/jpeg:https://meersaal.de/wp-content/uploads/2025/09/Morgenstern-Musick-Autor-Guenter-Linke.jpg
END:VEVENT
END:VCALENDAR