BEGIN:VCALENDAR
VERSION:2.0
PRODID:-//Meersaal - ECPv6.15.14//NONSGML v1.0//EN
CALSCALE:GREGORIAN
METHOD:PUBLISH
X-ORIGINAL-URL:https://meersaal.de
X-WR-CALDESC:Veranstaltungen für Meersaal
REFRESH-INTERVAL;VALUE=DURATION:PT1H
X-Robots-Tag:noindex
X-PUBLISHED-TTL:PT1H
BEGIN:VTIMEZONE
TZID:UTC
BEGIN:STANDARD
TZOFFSETFROM:+0000
TZOFFSETTO:+0000
TZNAME:UTC
DTSTART:20250101T000000
END:STANDARD
END:VTIMEZONE
BEGIN:VEVENT
DTSTART;TZID=UTC:20260504T190000
DTEND;TZID=UTC:20260504T210000
DTSTAMP:20260420T054817
CREATED:20260417T101052Z
LAST-MODIFIED:20260417T101052Z
UID:1521-1777921200-1777928400@meersaal.de
SUMMARY:Lesung mit Ute Fritsch
DESCRIPTION:Hans Fallada und seine Liebe zu Hiddensee und zur Ostsee
URL:https://meersaal.de/event/lesung-mit-ute-fritsch-3/
CATEGORIES:Lesung
END:VEVENT
END:VCALENDAR