BEGIN:VCALENDAR
VERSION:2.0
PRODID:-//Meersaal - ECPv6.15.14//NONSGML v1.0//EN
CALSCALE:GREGORIAN
METHOD:PUBLISH
X-WR-CALNAME:Meersaal
X-ORIGINAL-URL:https://meersaal.de
X-WR-CALDESC:Veranstaltungen für Meersaal
REFRESH-INTERVAL;VALUE=DURATION:PT1H
X-Robots-Tag:noindex
X-PUBLISHED-TTL:PT1H
BEGIN:VTIMEZONE
TZID:UTC
BEGIN:STANDARD
TZOFFSETFROM:+0000
TZOFFSETTO:+0000
TZNAME:UTC
DTSTART:20250101T000000
END:STANDARD
END:VTIMEZONE
BEGIN:VEVENT
DTSTART;TZID=UTC:20260524T190000
DTEND;TZID=UTC:20260524T210000
DTSTAMP:20260420T073223
CREATED:20260417T101308Z
LAST-MODIFIED:20260417T101308Z
UID:1523-1779649200-1779656400@meersaal.de
SUMMARY:Konzert und Liederabend
DESCRIPTION:Franz Schubert GESÄNGE DES HARFNERS (Johann Wolfgang von Goethe)\nTobias Rank ÜBER DEN JÄGERN JAGT DER GRÖSSERE HUND (Peter Huchel)\nRobert Schumann DICHTERLIEBE (Heinrich Heine) \nLars Grünwoldt\, Bariton\nTobias Rank\, Piano
URL:https://meersaal.de/event/konzert-und-liederabend/
CATEGORIES:Konzert
END:VEVENT
END:VCALENDAR