BEGIN:VCALENDAR
VERSION:2.0
PRODID:-//Meersaal - ECPv6.15.20//NONSGML v1.0//EN
CALSCALE:GREGORIAN
METHOD:PUBLISH
X-ORIGINAL-URL:https://meersaal.de
X-WR-CALDESC:Veranstaltungen für Meersaal
REFRESH-INTERVAL;VALUE=DURATION:PT1H
X-Robots-Tag:noindex
X-PUBLISHED-TTL:PT1H
BEGIN:VTIMEZONE
TZID:UTC
BEGIN:STANDARD
TZOFFSETFROM:+0000
TZOFFSETTO:+0000
TZNAME:UTC
DTSTART:20250101T000000
END:STANDARD
END:VTIMEZONE
BEGIN:VEVENT
DTSTART;TZID=UTC:20260713T190000
DTEND;TZID=UTC:20260713T203000
DTSTAMP:20260422T104825
CREATED:20260421T105540Z
LAST-MODIFIED:20260421T105540Z
UID:1536-1783969200-1783974600@meersaal.de
SUMMARY:Lesung - Daniela Dahn
DESCRIPTION:
URL:https://meersaal.de/event/lesung-daniela-dahn/
LOCATION:Meersaal\, Schaulbarg 13a\, Hiddensee\, Mecklenburg-Vorpommern\, 18565\, Germany
CATEGORIES:Lesung
END:VEVENT
END:VCALENDAR