BEGIN:VCALENDAR
VERSION:2.0
PRODID:-//Meersaal - ECPv6.15.20//NONSGML v1.0//EN
CALSCALE:GREGORIAN
METHOD:PUBLISH
X-WR-CALNAME:Meersaal
X-ORIGINAL-URL:https://meersaal.de
X-WR-CALDESC:Veranstaltungen für Meersaal
REFRESH-INTERVAL;VALUE=DURATION:PT1H
X-Robots-Tag:noindex
X-PUBLISHED-TTL:PT1H
BEGIN:VTIMEZONE
TZID:UTC
BEGIN:STANDARD
TZOFFSETFROM:+0000
TZOFFSETTO:+0000
TZNAME:UTC
DTSTART:20250101T000000
END:STANDARD
END:VTIMEZONE
BEGIN:VEVENT
DTSTART;TZID=UTC:20260810T190000
DTEND;TZID=UTC:20260810T210000
DTSTAMP:20260422T201829
CREATED:20260422T163425Z
LAST-MODIFIED:20260422T163425Z
UID:1551-1786388400-1786395600@meersaal.de
SUMMARY:Allein oder einsam? Warum fehlende Nähe krank machen kann
DESCRIPTION:Wann ist Alleinsein wohltuend – und wann wird es zur Belastung? Und welche Folgen hat\nEinsamkeit für unsere Gesundheit?\nDer Vortrag beleuchtet ein Thema\, das viele betrifft und zunehmend an Bedeutung gewinnt.\nEr zeigt\, warum wir als Menschen auf soziale Beziehungen angewiesen sind\, wie Einsamkeit\n„unter die Haut geht“ und welche Auswirkungen sie auf Körper und Seele haben kann.\nGleichzeitig wird deutlich: Einsamkeit ist kein individuelles Versagen\, sondern ein\nvielschichtiges Phänomen unserer Zeit.\nAuf Basis aktueller wissenschaftlicher Erkenntnisse – anschaulich und alltagsnah vermittelt –\nlädt der Vortrag dazu ein\, Einsamkeit besser zu verstehen und Wege zu entdecken\, wie wir\nihr begegnen können. \n  \nVortrag von Prof. Dr. med. Steffi Riedel-Heller\, MPH
URL:https://meersaal.de/event/allein-oder-einsam-warum-fehlende-naehe-krank-machen-kann/
LOCATION:Meersaal\, Schaulbarg 13a\, Hiddensee\, Mecklenburg-Vorpommern\, 18565\, Germany
CATEGORIES:Vortrag
ATTACH;FMTTYPE=image/jpeg:https://meersaal.de/wp-content/uploads/2026/04/Riedel-Heller_Steffi.jpg
END:VEVENT
END:VCALENDAR