BEGIN:VCALENDAR
VERSION:2.0
PRODID:-//Meersaal - ECPv6.15.20//NONSGML v1.0//EN
CALSCALE:GREGORIAN
METHOD:PUBLISH
X-WR-CALNAME:Meersaal
X-ORIGINAL-URL:https://meersaal.de
X-WR-CALDESC:Veranstaltungen für Meersaal
REFRESH-INTERVAL;VALUE=DURATION:PT1H
X-Robots-Tag:noindex
X-PUBLISHED-TTL:PT1H
BEGIN:VTIMEZONE
TZID:UTC
BEGIN:STANDARD
TZOFFSETFROM:+0000
TZOFFSETTO:+0000
TZNAME:UTC
DTSTART:20250101T000000
END:STANDARD
END:VTIMEZONE
BEGIN:VEVENT
DTSTART;TZID=UTC:20260817T190000
DTEND;TZID=UTC:20260817T203000
DTSTAMP:20260422T122552
CREATED:20260405T155332Z
LAST-MODIFIED:20260405T161543Z
UID:1498-1786993200-1786998600@meersaal.de
SUMMARY:Die Malweiber des Hiddenseer Künstlerinnenbundes – Leben & Wirken
DESCRIPTION:Im Neuendorfer MeerSaal oder im geschichtsträchtigen Henni-Lehmann-Haus stellt Autorin Marion Magas ihr Buch WIE SICH DIE MALWEIBER DIE OSTSEEKÜSTE EROBERTEN vor. Großartiges Bildmaterial illustriert die gesamte Lesung in einer digitalen Bildershow. Es sind 18 Frauen\, bekannt als die sogenannten Malweiber\, portraitiert. Sie gingen nach Ahrenshoop und auf die Insel Hiddensee. Die Autorin ruft vergessene Schicksale wieder ins Bewußtsein. Von ihrer männlichen Konkurrenz\, aber auch von der einheimischen Bevölkerung wurden die Künstlerinnen als „Malweiber“ verspottet\, jedoch ebenso bewundert. Im Zusammenhang mit ihrer Selbstbestimmtheit und wegen ihres unkonventionellen Lebenswandels mancherlei Diskriminierung ausgesetzt\, gingen und fanden die Künstlerinnen dennoch ihren Weg. \nZur Webseite von Marion Magas
URL:https://meersaal.de/event/die-malweiber-des-hiddenseer-kuenstlerinnenbundes-leben-wirken/
LOCATION:Meersaal\, Schaulbarg 13a\, Hiddensee\, Mecklenburg-Vorpommern\, 18565\, Germany
CATEGORIES:Lesung
ATTACH;FMTTYPE=image/jpeg:https://meersaal.de/wp-content/uploads/2026/04/2026_08_Malweiber_MS-scaled.jpg
END:VEVENT
END:VCALENDAR