BEGIN:VCALENDAR
VERSION:2.0
PRODID:-//Meersaal - ECPv6.15.20//NONSGML v1.0//EN
CALSCALE:GREGORIAN
METHOD:PUBLISH
X-WR-CALNAME:Meersaal
X-ORIGINAL-URL:https://meersaal.de
X-WR-CALDESC:Veranstaltungen für Meersaal
REFRESH-INTERVAL;VALUE=DURATION:PT1H
X-Robots-Tag:noindex
X-PUBLISHED-TTL:PT1H
BEGIN:VTIMEZONE
TZID:UTC
BEGIN:STANDARD
TZOFFSETFROM:+0000
TZOFFSETTO:+0000
TZNAME:UTC
DTSTART:20240101T000000
END:STANDARD
END:VTIMEZONE
BEGIN:VEVENT
DTSTART;TZID=UTC:20250505T190000
DTEND;TZID=UTC:20250505T203000
DTSTAMP:20260424T143258
CREATED:20250504T143104Z
LAST-MODIFIED:20250504T143104Z
UID:1115-1746471600-1746477000@meersaal.de
SUMMARY:Lesung - Ute Fritsch
DESCRIPTION:Hans Fallada und seine Liebe zur Ostsee und zu Hiddensee \nAnmeldung direkt im Meersaal oder telefonisch unter: 0176 4125277 \nEinlass: 18:30\nBeginn: 19:00
URL:https://meersaal.de/event/lesung-ute-fritsch/
LOCATION:Meersaal\, Schaulbarg 13a\, Hiddensee\, Mecklenburg-Vorpommern\, 18565\, Germany
CATEGORIES:Lesung
ATTACH;FMTTYPE=image/jpeg:https://meersaal.de/wp-content/uploads/2025/05/IMG-20250504-WA0001-1-scaled.jpg
ORGANIZER;CN="Meersaal e.V.":MAILTO:johann30699@gmail.com
END:VEVENT
BEGIN:VEVENT
DTSTART;TZID=UTC:20250516T183000
DTEND;TZID=UTC:20250516T203000
DTSTAMP:20260424T143258
CREATED:20250507T151322Z
LAST-MODIFIED:20250511T124748Z
UID:1128-1747420200-1747427400@meersaal.de
SUMMARY:mitFilm - Das Leben ist ein Fest
DESCRIPTION:Hallo ihr Lieben\,\nWir laden euch herzlich zu unserem neuen Format „mitFilm“ ein – ein Mitbring-Kino-Abend für alle.\nIm Laufe der Saison zeigen wir jede Woche verschiedene Filme; von den guten alten Klassikern über Kinder-Filme hin zu Programm-Filmen.\nDamit nicht nur in der Film-Auswahl für alle etwas dabei ist\, möchten wir gemeinsam mit euch für jeden Kinoabend ein Büffet mit unseren Lieblings-Snacks zusammenstellen.\nBringt also eure Favoriten mit und bedient euch an unserem dann hoffentlich ganz bunten Büffet. Von salzig\, über süß und sauer sind alle Snacks und Speisen erwünscht.\nGetränke könnt ihr käuflich bei uns erwerben.  \nDer Eintritt für diesen Abend beträgt 5 Euro pro Person\, Kinder und Jugendliche bis 16 Jahre können kostenfrei dabei sein.\nWir starten die Filme um 18:30 Uhr\, also kommt gerne ein bisschen früher um es euch richtig gemütlich zu machen.\nWir freuen uns auf euch\, eine gemütliche Atmosphäre\, nette Gespräche und eine lustige Zeit zusammen!\nEuer Meersaal-Team \nWir starten mit dem Film „Das Leben ist ein Fest“ von Olivier Nakache und Éric Toledano.\nHierbei handelt es sich um eine französische Komödie\, mit dem folgenden Teaser: \nKann einem Wedding Planner etwas Schlimmeres passieren als ein verdorbenes Buffet\, eine Hochzeitsgesellschaft\, die im Stau steht\, ein Fotograf\, der sich daneben benimmt\, eine Band\, die kurzfristig absagt\, und ein Team\, das wegen einer Lebensmittelvergiftung ausfällt? Wenn dann noch die eigene Frau die Scheidung will und der Schwager in der Braut die große Liebe seines Lebens erkennt\, ist das Chaos perfekt!
URL:https://meersaal.de/event/kino-das-leben-ist-ein-fest/
LOCATION:Meersaal\, Schaulbarg 13a\, Hiddensee\, Mecklenburg-Vorpommern\, 18565\, Germany
CATEGORIES:Kino
ATTACH;FMTTYPE=image/jpeg:https://meersaal.de/wp-content/uploads/2025/05/Tanztee_Plakat_web.jpg
ORGANIZER;CN="Meersaal e.V.":MAILTO:johann30699@gmail.com
END:VEVENT
BEGIN:VEVENT
DTSTART;TZID=UTC:20250521T183000
DTEND;TZID=UTC:20250521T203000
DTSTAMP:20260424T143258
CREATED:20250507T152033Z
LAST-MODIFIED:20250511T124727Z
UID:1131-1747852200-1747859400@meersaal.de
SUMMARY:mitFilm - Zusammen ist man weniger allein
DESCRIPTION:Hallo ihr Lieben\,\nWir laden euch herzlich zu unserem neuen Format „mitFilm“ ein – ein Mitbring-Kino-Abend für alle.\nIm Laufe der Saison zeigen wir jede Woche verschiedene Filme; von den guten alten Klassikern über Kinder-Filme hin zu Programm-Filmen.\nDamit nicht nur in der Film-Auswahl für alle etwas dabei ist\, möchten wir gemeinsam mit euch für jeden Kinoabend ein Büffet mit unseren Lieblings-Snacks zusammenstellen.\nBringt also eure Favoriten mit und bedient euch an unserem dann hoffentlich ganz bunten Büffet. Von salzig\, über süß und sauer sind alle Snacks und Speisen erwünscht.\nGetränke könnt ihr käuflich bei uns erwerben.  \nDer Eintritt für diesen Abend beträgt 5 Euro pro Person\, Kinder und Jugendliche bis 16 Jahre können kostenfrei dabei sein.\nWir starten die Filme um 18:30 Uhr\, also kommt gerne ein bisschen früher um es euch richtig gemütlich zu machen.\nWir freuen uns auf euch\, eine gemütliche Atmosphäre\, nette Gespräche und eine lustige Zeit zusammen!\nEuer Meersaal-Team \nBei dem Film geht es um folgendes: \nCamille lebt in einem beengten Dachkämmerchen eines Pariser Wohnhauses. Als sie erkrankt von ihrem Nachbarn Philibert in dessen Wohnung aufgenommen wird\, entwickelt sich zusammen mit dessen Untermieter Franck eine außergewöhnliche Wohngemeinschaft. Gefühlvolle Tragikomödie von Filmveteran Claude Berri („Willkommen bei den Sch’tis“).
URL:https://meersaal.de/event/kino-zusammen-ist-man-weniger-allein/
LOCATION:Meersaal\, Schaulbarg 13a\, Hiddensee\, Mecklenburg-Vorpommern\, 18565\, Germany
CATEGORIES:Kino
ATTACH;FMTTYPE=image/jpeg:https://meersaal.de/wp-content/uploads/2025/05/mitFilm_02.jpg
ORGANIZER;CN="Meersaal e.V.":MAILTO:johann30699@gmail.com
END:VEVENT
BEGIN:VEVENT
DTSTART;TZID=UTC:20250527T190000
DTEND;TZID=UTC:20250527T210000
DTSTAMP:20260424T143258
CREATED:20250127T181128Z
LAST-MODIFIED:20250527T172432Z
UID:1078-1748372400-1748379600@meersaal.de
SUMMARY:Lesung - Marion Magas
DESCRIPTION:Die Malweiber des Hiddenseer Künstlerinnenbundes – Leben & Wirken\nVortrag & Bildershow mit Autorin Marion Magas \nZur Webseite von Marion Magas
URL:https://meersaal.de/event/lesung-marion-magas/
LOCATION:Meersaal\, Schaulbarg 13a\, Hiddensee\, Mecklenburg-Vorpommern\, 18565\, Germany
CATEGORIES:Lesung
ORGANIZER;CN="Meersaal e.V.":MAILTO:johann30699@gmail.com
END:VEVENT
BEGIN:VEVENT
DTSTART;TZID=UTC:20250528T190000
DTEND;TZID=UTC:20250528T210000
DTSTAMP:20260424T143258
CREATED:20250314T224915Z
LAST-MODIFIED:20250511T130211Z
UID:1090-1748458800-1748466000@meersaal.de
SUMMARY:Caroline Cotter - Konzert
DESCRIPTION:Am 28.05. wird Caroline Cotter in unserem Saal spielen. \nCaroline Cotters sonnige Lieder würdigen die unzähligen Facetten des Menschseins. Mit ihrer honigsüßen Stimme und ihren entwaffnend ehrlichen Texten singt Cotter über Verbundenheit\, Nostalgie\, Dankbarkeit\, Verlust und Fernweh. Texte wie „Find me somewhere out on the road / Take me into your heart and into your home“ sind für eine tourende Künstlerin\, die über 1000 Konzerte in 45 Bundesstaaten und 16 Ländern gespielt hat\, absolut schlüssig. Cotter hat drei Alben veröffentlicht: „Dreaming as I Do“ (2015)\, „Home on the River“ (2018) und „Gently as I Go“ (2023). Das Magazin „Under the Radar“ schreibt\, ihre Musik „vermittelt ein anhaltendes Gefühl von Wärme und Willkommensein und erinnert uns daran\, jeden Moment optimal zu nutzen.“ Wo immer sie auftritt\, lösen ihre orakelhaften Lieder Emotionen aus und wecken Einsichten – Heilmittel für unsere kollektive Sehnsucht. \nEintritt: 25€\nMeldet euch gerne vorher direkt im Meersaal oder unter der Mail: meersaal.hiddensee@gmail.com an oder kommt einfach spontan vorbei – wir werden bestimmt noch Platz finden.\nWir freuen uns auf euch!
URL:https://meersaal.de/event/caroline-cotter-konzert/
LOCATION:Meersaal\, Schaulbarg 13a\, Hiddensee\, Mecklenburg-Vorpommern\, 18565\, Germany
CATEGORIES:Konzert
ATTACH;FMTTYPE=image/webp:https://meersaal.de/wp-content/uploads/2025/03/19949972.webp
ORGANIZER;CN="Meersaal e.V.":MAILTO:johann30699@gmail.com
END:VEVENT
BEGIN:VEVENT
DTSTART;TZID=UTC:20250530T183000
DTEND;TZID=UTC:20250530T203000
DTSTAMP:20260424T143258
CREATED:20250520T181703Z
LAST-MODIFIED:20250524T113343Z
UID:1201-1748629800-1748637000@meersaal.de
SUMMARY:mitFilm - Gundermann
DESCRIPTION:Hallo ihr Lieben\,\nWir laden euch herzlich zu unserem neuen Format „mitFilm“ ein – ein Mitbring-Kino-Abend für alle.\nIm Laufe der Saison zeigen wir jede Woche verschiedene Filme; von den guten alten Klassikern über Kinder-Filme hin zu Programm-Filmen.\nDamit nicht nur in der Film-Auswahl für alle etwas dabei ist\, möchten wir gemeinsam mit euch für jeden Kinoabend ein Büffet mit unseren Lieblings-Snacks zusammenstellen.\nBringt also eure Favoriten mit und bedient euch an unserem dann hoffentlich ganz bunten Büffet. Von salzig\, über süß und sauer sind alle Snacks und Speisen erwünscht.\nGetränke könnt ihr käuflich bei uns erwerben. \nDer Eintritt für diesen Abend beträgt 5 Euro pro Person\, Kinder und Jugendliche bis 16 Jahre können kostenfrei dabei sein.\nWir starten die Filme um 18:30 Uhr\, also kommt gerne ein bisschen früher um es euch richtig gemütlich zu machen.\nWir freuen uns auf euch\, eine gemütliche Atmosphäre\, nette Gespräche und eine lustige Zeit zusammen!\nEuer Meersaal-Team \nBei dem Film geht es um folgendes: \nGUNDERMANN erzählt von einem Baggerfahrer\, der Lieder schreibt. Der ein Poet ist\, ein Clown und ein Idealist. Der träumt und hofft und liebt und kämpft. Ein Spitzel\, der bespitzelt wird. Ein Weltverbesserer\, der es nicht besser weiß. Ein Zerrissener. GUNDERMANN ist Liebes- und Musikfilm\, Drama über Schuld und Verstrickung\, eine Geschichte vom Verdrängen und Sich-Stellen. GUNDERMANN ist ein Film über Heimat. Er blickt noch einmal neu auf ein verschwundenes Land. Es ist nicht zu spät dafür. Es ist an der Zeit.
URL:https://meersaal.de/event/mitfilm-gundermann/
LOCATION:Meersaal\, Schaulbarg 13a\, Hiddensee\, Mecklenburg-Vorpommern\, 18565\, Germany
CATEGORIES:Kino
ATTACH;FMTTYPE=image/jpeg:https://meersaal.de/wp-content/uploads/2025/05/mitFilm_03.jpg
ORGANIZER;CN="Meersaal e.V.":MAILTO:johann30699@gmail.com
END:VEVENT
END:VCALENDAR