BEGIN:VCALENDAR
VERSION:2.0
PRODID:-//Meersaal - ECPv6.15.20//NONSGML v1.0//EN
CALSCALE:GREGORIAN
METHOD:PUBLISH
X-ORIGINAL-URL:https://meersaal.de
X-WR-CALDESC:Veranstaltungen für Meersaal
REFRESH-INTERVAL;VALUE=DURATION:PT1H
X-Robots-Tag:noindex
X-PUBLISHED-TTL:PT1H
BEGIN:VTIMEZONE
TZID:UTC
BEGIN:STANDARD
TZOFFSETFROM:+0000
TZOFFSETTO:+0000
TZNAME:UTC
DTSTART:20240101T000000
END:STANDARD
END:VTIMEZONE
BEGIN:VEVENT
DTSTART;TZID=UTC:20250602T190000
DTEND;TZID=UTC:20250602T200000
DTSTAMP:20260424T113842
CREATED:20250507T152551Z
LAST-MODIFIED:20250530T201240Z
UID:1136-1748890800-1748894400@meersaal.de
SUMMARY:"Einszweidrei\, im Sauseschritt“ Wilhelm Busch – ein Leben in Gedichten
DESCRIPTION:Dr. Bernd Fredrich stellt den Begründer der Bildergeschichten in Wort und Bild näher vor. Schwerpunkt sind aber seine komischen Gedichte. Was war er aber für ein Mensch? Wirklich ein Weiberfeind oder ein Einsiedler? \nKommt einfach vorbei oder meldet euch schon vorher bei uns im Meersaal an. \nWir freuen uns auf euch!
URL:https://meersaal.de/event/vortrag-bernd-friedrich-ueber-wilhelm-busch/
LOCATION:Meersaal\, Schaulbarg 13a\, Hiddensee\, Mecklenburg-Vorpommern\, 18565\, Germany
CATEGORIES:Vortrag
ATTACH;FMTTYPE=image/jpeg:https://meersaal.de/wp-content/uploads/2025/05/W.B.6.jpg
ORGANIZER;CN="Meersaal e.V.":MAILTO:johann30699@gmail.com
END:VEVENT
BEGIN:VEVENT
DTSTART;TZID=UTC:20250604T183000
DTEND;TZID=UTC:20250604T203000
DTSTAMP:20260424T113842
CREATED:20250526T115454Z
LAST-MODIFIED:20250527T084314Z
UID:1211-1749061800-1749069000@meersaal.de
SUMMARY:mitFilm - Der Rausch
DESCRIPTION:Hallo ihr Lieben\,\nWir laden euch herzlich zu unserem neuen Format „mitFilm“ ein – ein Mitbring-Kino-Abend für alle.\nIm Laufe der Saison zeigen wir jede Woche verschiedene Filme; von den guten alten Klassikern über Kinder-Filme hin zu Programm-Filmen.\nDamit nicht nur in der Film-Auswahl für alle etwas dabei ist\, möchten wir gemeinsam mit euch für jeden Kinoabend ein Büffet mit unseren Lieblings-Snacks zusammenstellen.\nBringt also eure Favoriten mit und bedient euch an unserem dann hoffentlich ganz bunten Büffet. Von salzig\, über süß und sauer sind alle Snacks und Speisen erwünscht.\nGetränke könnt ihr käuflich bei uns erwerben. \nDer Eintritt für diesen Abend beträgt 5 Euro pro Person\, Kinder und Jugendliche bis 16 Jahre können kostenfrei dabei sein.\nWir starten die Filme um 18:30 Uhr\, also kommt gerne ein bisschen früher um es euch richtig gemütlich zu machen.\nWir freuen uns auf euch\, eine gemütliche Atmosphäre\, nette Gespräche und eine lustige Zeit zusammen!\nEuer Meersaal-Team \nBei dem Film geht es um folgendes: \nIm Zentrum des Werks stehen vier Freunde\, die allesamt mittlerweile ein eingefahrenes Leben führen. Bei einer kleinen Geburtstagsrunde bezieht sich einer auf eine These eines norwegischen Philosophen\, der behauptet\, dass ein Mensch nur mit einem gewissen Alkoholgehalt im Blut zu Bestleistungen fähig ist. Kurzerhand beschließen die Freunde diese These zu überprüfen und halten ab sofort ihren Alkoholpegel – auch im Alltag. Doch merken sie bald\, dass dieser Rausch nicht genug ist.
URL:https://meersaal.de/event/mitfilm-der-rausch/
LOCATION:Meersaal\, Schaulbarg 13a\, Hiddensee\, Mecklenburg-Vorpommern\, 18565\, Germany
CATEGORIES:Kino
ATTACH;FMTTYPE=image/jpeg:https://meersaal.de/wp-content/uploads/2025/05/mitFilm_04-1.jpg
END:VEVENT
BEGIN:VEVENT
DTSTART;TZID=UTC:20250608T190000
DTEND;TZID=UTC:20250608T210000
DTSTAMP:20260424T113842
CREATED:20250529T160514Z
LAST-MODIFIED:20250529T160514Z
UID:1224-1749409200-1749416400@meersaal.de
SUMMARY:Wellentanz – fantasievolle Klangmalerei zum Abheben mit Falk Zenker (Gitarre)
DESCRIPTION:Einer der kreativsten Nylongitarristen des Landes“\, wie Falk Zenker unlängst vom Fachmagazin Akustik Gitarre genannt wurde\,\nverspricht ein inspirierendes Konzerterlebnis\, in dem Räume entstehen für schwereloses Träumen\, atemberaubende Höhenflüge\, heiter-kreative Gedankensprünge und für die Begegnung mit sich selbst. \nEintritt: 15€\, ermäßigt: 8€
URL:https://meersaal.de/event/wellentanz-fantasievolle-klangmalerei-zum-abheben-mit-falk-zenker-gitarre/
LOCATION:Meersaal\, Schaulbarg 13a\, Hiddensee\, Mecklenburg-Vorpommern\, 18565\, Germany
CATEGORIES:Konzert
ORGANIZER;CN="Meersaal e.V.":MAILTO:johann30699@gmail.com
END:VEVENT
BEGIN:VEVENT
DTSTART;TZID=UTC:20250610T190000
DTEND;TZID=UTC:20250610T200000
DTSTAMP:20260424T113842
CREATED:20250507T153759Z
LAST-MODIFIED:20250530T194638Z
UID:1144-1749582000-1749585600@meersaal.de
SUMMARY:"Noch ’n Gedicht“ Heinz Erhardt – sein Leben in Gedichten
DESCRIPTION:Dr. Bernd Fredrich stellt den bekannten Schauspieler und Kabarettist in Wort\, Bild und Video vor. Aber er schrieb auch humorige Gedichte. Wer kennt nicht seine „Ballade von der Made“?  Er wurde in Riga geboren und hatte 4 Kinder…  \nKommt einfach vorbei oder meldet euch schon vorher bei uns im Meersaal an. \nWir freuen uns auf euch!
URL:https://meersaal.de/event/vortrag-bern-friedrich-ueber-heinz-erhardt/
LOCATION:Meersaal\, Schaulbarg 13a\, Hiddensee\, Mecklenburg-Vorpommern\, 18565\, Germany
CATEGORIES:Vortrag
ATTACH;FMTTYPE=image/jpeg:https://meersaal.de/wp-content/uploads/2025/05/Briefmarke-2009.jpg
ORGANIZER;CN="Meersaal e.V.":MAILTO:johann30699@gmail.com
END:VEVENT
BEGIN:VEVENT
DTSTART;TZID=UTC:20250611T183000
DTEND;TZID=UTC:20250611T210000
DTSTAMP:20260424T113842
CREATED:20250606T143133Z
LAST-MODIFIED:20250606T143133Z
UID:1246-1749666600-1749675600@meersaal.de
SUMMARY:mitFilm - Die anonymen Romantiker
DESCRIPTION:Hallo ihr Lieben\,\nWir laden euch herzlich zu unserem neuen Format „mitFilm“ ein – ein Mitbring-Kino-Abend für alle.\nIm Laufe der Saison zeigen wir jede Woche verschiedene Filme; von den guten alten Klassikern über Kinder-Filme hin zu Programm-Filmen.\nDamit nicht nur in der Film-Auswahl für alle etwas dabei ist\, möchten wir gemeinsam mit euch für jeden Kinoabend ein Büffet mit unseren Lieblings-Snacks zusammenstellen.\nBringt also eure Favoriten mit und bedient euch an unserem dann hoffentlich ganz bunten Büffet. Von salzig\, über süß und sauer sind alle Snacks und Speisen erwünscht.\nGetränke könnt ihr käuflich bei uns erwerben. \nDer Eintritt für diesen Abend beträgt 5 Euro pro Person\, Kinder und Jugendliche bis 16 Jahre können kostenfrei dabei sein.\nWir starten die Filme um 18:30 Uhr\, also kommt gerne ein bisschen früher um es euch richtig gemütlich zu machen.\nWir freuen uns auf euch\, eine gemütliche Atmosphäre\, nette Gespräche und eine lustige Zeit zusammen!\nEuer Meersaal-Team \nBei dem Film geht es um folgendes: \nZartbitter\, samtigsüß\, raffiniert aromatisch – in der Herstellung verführerischer Schokoladenkreationen ist Angélique (Isabelle Carré) äußerst erfinderisch. Doch sie fällt in Ohnmacht\, wenn sie jemanden ansprechen muss. Jean-René (Benoît Poelvoorde) führt eine Schokoladenmanufaktur\, aber im Umgang mit Menschen gerät er in Panik. Während Angélique ihrer übergroßen Empfindsamkeit in einer Selbsthilfegruppe zu Leibe rückt\, versucht Jean-René seine Hemmungen mittels Einzeltherapie zu überwinden. Als Angélique in Jean-Renés Manufaktur aufgrund einer Verwechslung die neue Stelle als Vertriebskraft antritt\, sind die Hürden\, die sie überwinden muss\, enorm. Doch verglichen mit Jean-Renés Angst vor den eigenen Gefühlen ist ihre Lage fast ein Kinderspiel. Denn die unerwartete Zuneigung zu seiner neuen Mitarbeiterin ist eine außerordentliche Herausforderung\, der Jean-René mit unorthodoxen Mitteln begegnet.
URL:https://meersaal.de/event/mitfilm-die-anonymen-romantiker/
LOCATION:Meersaal\, Schaulbarg 13a\, Hiddensee\, Mecklenburg-Vorpommern\, 18565\, Germany
CATEGORIES:Kino
ATTACH;FMTTYPE=image/jpeg:https://meersaal.de/wp-content/uploads/2025/06/mitFilm_05-scaled.jpg
END:VEVENT
BEGIN:VEVENT
DTSTART;TZID=UTC:20250612T190000
DTEND;TZID=UTC:20250612T210000
DTSTAMP:20260424T113842
CREATED:20250127T181334Z
LAST-MODIFIED:20250527T172346Z
UID:1080-1749754800-1749762000@meersaal.de
SUMMARY:Lesung - Marion Magas
DESCRIPTION:Letzte Ausfahrt Hiddensee!\nKrimilesung mit den Autoren Burkhard Wetekam & Marion Magas \nZur Webseite von Marion Magas
URL:https://meersaal.de/event/lesung-marion-magas-2/
LOCATION:Meersaal\, Schaulbarg 13a\, Hiddensee\, Mecklenburg-Vorpommern\, 18565\, Germany
CATEGORIES:Lesung
ORGANIZER;CN="Meersaal e.V.":MAILTO:johann30699@gmail.com
END:VEVENT
BEGIN:VEVENT
DTSTART;TZID=UTC:20250616T190000
DTEND;TZID=UTC:20250616T210000
DTSTAMP:20260424T113842
CREATED:20250522T170218Z
LAST-MODIFIED:20250522T170218Z
UID:1205-1750100400-1750107600@meersaal.de
SUMMARY:Lesung - Ute Fritsch
DESCRIPTION:“Hans Fallada und seine Liebe zu Hiddensee und zur Ostsee” – Biografische Orte & literarische Schauplätze\nNeuendorf (Hotel am Meer)\, Stralsund\, Greifswald\, Halbinsel Wittow\, Graal-Müritz\, Kölpinsee- und ein bisher fast unbekannter Roman\, der am Strand von Vitte spielt! \nOrt: MeerSaal\, Neuendorf Kosten: 12 € Anmeld. mgl: Tel. 01704125277
URL:https://meersaal.de/event/lesung-ute-fritsch-2/
LOCATION:Meersaal\, Schaulbarg 13a\, Hiddensee\, Mecklenburg-Vorpommern\, 18565\, Germany
CATEGORIES:Lesung
ORGANIZER;CN="Meersaal e.V.":MAILTO:johann30699@gmail.com
END:VEVENT
BEGIN:VEVENT
DTSTART;TZID=UTC:20250618T183000
DTEND;TZID=UTC:20250618T200000
DTSTAMP:20260424T113842
CREATED:20250612T171156Z
LAST-MODIFIED:20250612T171522Z
UID:1256-1750271400-1750276800@meersaal.de
SUMMARY:mitFilm - Die fabelhafte Welt der Amélie
DESCRIPTION:Hallo ihr Lieben\,\nWir laden euch herzlich zu unserem neuen Format „mitFilm“ ein – ein Mitbring-Kino-Abend für alle.\nIm Laufe der Saison zeigen wir jede Woche verschiedene Filme; von den guten alten Klassikern über Kinder-Filme hin zu Programm-Filmen.\nDamit nicht nur in der Film-Auswahl für alle etwas dabei ist\, möchten wir gemeinsam mit euch für jeden Kinoabend ein Büffet mit unseren Lieblings-Snacks zusammenstellen.\nBringt also eure Favoriten mit und bedient euch an unserem dann hoffentlich ganz bunten Büffet. Von salzig\, über süß und sauer sind alle Snacks und Speisen erwünscht.\nGetränke könnt ihr käuflich bei uns erwerben. \nDer Eintritt für diesen Abend beträgt 5 Euro pro Person\, Kinder und Jugendliche bis 16 Jahre können kostenfrei dabei sein.\nWir starten die Filme um 18:30 Uhr\, also kommt gerne ein bisschen früher um es euch richtig gemütlich zu machen.\nWir freuen uns auf euch\, eine gemütliche Atmosphäre\, nette Gespräche und eine lustige Zeit zusammen!\nEuer Meersaal-Team \nBei dem Film geht es um folgendes: \nAmelie (Audrey Toutou) hat ihre eigene fabelhafte Welt geschaffen. Sie liebt die kleinen Dinge\, die unscheinbaren Details\, die leisen Töne und die bedachten Gesten. Sie hat einen Blick für magische Momente\, die flüchtiger erscheinen als ein Wimpernschlag. Amelie hat den Kopf immerzu über den Wolken\, schafft es aber gleichzeitig\, mit den beiden Beinen fest auf der Erde zu stehen. Sie ist liebenswürdig\, hilft gerne anderen Leuten und arbeitet als Kellnerin in einem Café in Montmartre. Dort ist immer was los\, bis hin zu ziemlich schrägen Typen und einer hypochondrisch kranken Arbeitskollegin. Da hat man natürlich viel zu tun. Aber dann verliebt Amélie sich in den sanften Spinner Nino Quincampoix (Mathieu Kassovitz) und weiß nicht\, wie sie sich ihm nähern soll. Plötzlich braucht Amélie also selbst mal Hilfe.
URL:https://meersaal.de/event/mitfilm-die-fabelhafte-welt-der-amelie/
LOCATION:Meersaal\, Schaulbarg 13a\, Hiddensee\, Mecklenburg-Vorpommern\, 18565\, Germany
CATEGORIES:Kino
ATTACH;FMTTYPE=image/jpeg:https://meersaal.de/wp-content/uploads/2025/06/mitFilm_06-scaled.jpg
END:VEVENT
BEGIN:VEVENT
DTSTART;TZID=UTC:20250620T190000
DTEND;TZID=UTC:20250620T210000
DTSTAMP:20260424T113842
CREATED:20250606T145516Z
LAST-MODIFIED:20250606T145516Z
UID:1249-1750446000-1750453200@meersaal.de
SUMMARY:Lesung - WIR BLEIBEN WIR: Franca und Ed
DESCRIPTION:Nur vier Tage nach der Veröffentlichung des Buches „Wir bleiben wir: Franca und Ed“ wird es am 20.06. von der Schriftstellerin Thekla Wilkening vorgestellt und daraus gelesen. \nDas Buch behandelt ein Paar zwischen Macht und Nähe\, WG-Leben\, Stadtplanung\,\npolitischen Gesprächen und persönlichem Aufbruch – zeitgeistlich\, klug\, nah\, wild und zärtlich. \nKommt vorbei und verbringt einen geistreichen Abend im Meersaal mit Thekla.\nWir freuen uns auf eine schöne Lesung und angeregte Gespräche.
URL:https://meersaal.de/event/lesung-wir-bleiben-wir-franca-und-ed/
LOCATION:Meersaal\, Schaulbarg 13a\, Hiddensee\, Mecklenburg-Vorpommern\, 18565\, Germany
CATEGORIES:Lesung
ATTACH;FMTTYPE=image/jpeg:https://meersaal.de/wp-content/uploads/2025/06/Poster_Lesung_TheklaWilkening.jpg
END:VEVENT
BEGIN:VEVENT
DTSTART;TZID=UTC:20250623T190000
DTEND;TZID=UTC:20250623T210000
DTSTAMP:20260424T113842
CREATED:20250522T170229Z
LAST-MODIFIED:20250621T080301Z
UID:1207-1750705200-1750712400@meersaal.de
SUMMARY:Lesung - Ute Fritsch
DESCRIPTION:Lesung mit Ute Fritsch\n“Berliner Schriftsteller und Schauspieler auf Hiddensee – Das turbulente Leben\, Lieben und Schaffen der Berliner Boheme 1913-1935 – Geschichten um Billy Wilder\, Else-Lasker-Schüler\, Gottfried Benn\, Klaus Mann\, Friedrich Hollaender\, Ludwig Marcuse\, Mascha Kaleko\, Asta Nielsen\, Ringelnatz…. \nOrt: MeerSaal\, Neuendorf\, Kosten: 12 €\, Tel. Anmeld.mgl.: 01704125277
URL:https://meersaal.de/event/lesung-ute-fritsch-3/
LOCATION:Meersaal\, Schaulbarg 13a\, Hiddensee\, Mecklenburg-Vorpommern\, 18565\, Germany
CATEGORIES:Lesung
ATTACH;FMTTYPE=image/jpeg:https://meersaal.de/wp-content/uploads/2025/05/storage_emulated_0_Android_data_com.adobe_.reader_files_Pictures_Adobe-Acrobat-Exports_20250620120543_0.jpg
ORGANIZER;CN="Meersaal e.V.":MAILTO:johann30699@gmail.com
END:VEVENT
BEGIN:VEVENT
DTSTART;TZID=UTC:20250625T183000
DTEND;TZID=UTC:20250625T190000
DTSTAMP:20260424T113842
CREATED:20250612T171423Z
LAST-MODIFIED:20250612T171423Z
UID:1259-1750876200-1750878000@meersaal.de
SUMMARY:mitFilm - Alles außer gewöhnlich
DESCRIPTION:Hallo ihr Lieben\,\nWir laden euch herzlich zu unserem neuen Format „mitFilm“ ein – ein Mitbring-Kino-Abend für alle.\nIm Laufe der Saison zeigen wir jede Woche verschiedene Filme; von den guten alten Klassikern über Kinder-Filme hin zu Programm-Filmen.\nDamit nicht nur in der Film-Auswahl für alle etwas dabei ist\, möchten wir gemeinsam mit euch für jeden Kinoabend ein Büffet mit unseren Lieblings-Snacks zusammenstellen.\nBringt also eure Favoriten mit und bedient euch an unserem dann hoffentlich ganz bunten Büffet. Von salzig\, über süß und sauer sind alle Snacks und Speisen erwünscht.\nGetränke könnt ihr käuflich bei uns erwerben. \nDer Eintritt für diesen Abend beträgt 5 Euro pro Person\, Kinder und Jugendliche bis 16 Jahre können kostenfrei dabei sein.\nWir starten die Filme um 18:30 Uhr\, also kommt gerne ein bisschen früher um es euch richtig gemütlich zu machen.\nWir freuen uns auf euch\, eine gemütliche Atmosphäre\, nette Gespräche und eine lustige Zeit zusammen!\nEuer Meersaal-Team \nBei dem Film geht es um folgendes: \nBei ihrer Arbeit mit autistischen jungen Menschen und ihren Betreuern vollbringen Bruno (Vincent Cassel) und Malik (Reda Kateb) tagtäglich kleine Wunder: Mit viel Engagement\, Feingefühl und Humor gelingt es den beiden\, aus vielen unterschiedlichen Persönlichkeiten eine Gemeinschaft zu formen\, in der jeder Einzelne die Chance bekommt\, über sich hinaus zu wachsen.
URL:https://meersaal.de/event/mitfilm-alles-ausser-gewoehnlich/
LOCATION:Meersaal\, Schaulbarg 13a\, Hiddensee\, Mecklenburg-Vorpommern\, 18565\, Germany
CATEGORIES:Kino
ATTACH;FMTTYPE=image/jpeg:https://meersaal.de/wp-content/uploads/2025/06/mitFilm_07-scaled.jpg
END:VEVENT
BEGIN:VEVENT
DTSTART;TZID=UTC:20250630T123000
DTEND;TZID=UTC:20250630T133000
DTSTAMP:20260424T113842
CREATED:20250511T131808Z
LAST-MODIFIED:20250511T131808Z
UID:1172-1751286600-1751290200@meersaal.de
SUMMARY:Palucca - IL PASTO
DESCRIPTION:Als Teil der „Palucca Tanzwoche hiddensee 2025 – akzepTANZ“ werden die Tanzenden bei uns im Meersaal eine Aufführung mit dem Titel „IL PASTO“ veranstalten. \nNachdem sie am 30.06. um 11:30 im Hafen von Neuendorf getanzt haben\, werden sie um 12:30 im Meersaal beginnen. \nKommt vorbei und lasst euch überraschen\, wie die Tanzenden den Saal nutzen werden.
URL:https://meersaal.de/event/palucca-il-pasto/
LOCATION:Meersaal\, Schaulbarg 13a\, Hiddensee\, Mecklenburg-Vorpommern\, 18565\, Germany
CATEGORIES:Sonstiges
ORGANIZER;CN="Meersaal e.V.":MAILTO:johann30699@gmail.com
END:VEVENT
END:VCALENDAR