BEGIN:VCALENDAR
VERSION:2.0
PRODID:-//Meersaal - ECPv6.15.20//NONSGML v1.0//EN
CALSCALE:GREGORIAN
METHOD:PUBLISH
X-ORIGINAL-URL:https://meersaal.de
X-WR-CALDESC:Veranstaltungen für Meersaal
REFRESH-INTERVAL;VALUE=DURATION:PT1H
X-Robots-Tag:noindex
X-PUBLISHED-TTL:PT1H
BEGIN:VTIMEZONE
TZID:UTC
BEGIN:STANDARD
TZOFFSETFROM:+0000
TZOFFSETTO:+0000
TZNAME:UTC
DTSTART:20250101T000000
END:STANDARD
END:VTIMEZONE
BEGIN:VEVENT
DTSTART;TZID=UTC:20260914T190000
DTEND;TZID=UTC:20260914T203000
DTSTAMP:20260422T122850
CREATED:20260405T160227Z
LAST-MODIFIED:20260405T161616Z
UID:1505-1789412400-1789417800@meersaal.de
SUMMARY:Die Blaue Scheune oder Henni Lehmann\, Künstlerdasein\, Orientalischblau
DESCRIPTION:Henni Lehmanns familiäre und künstlerische Biographie rückt in den Vordergrund\, ohne ihr soziales Engagement zu vernachlässigen. Sie etablierte die Blaue Scheune als Ausstellungshaus und ebenso auch als Blickfang durch die blaue Farbe. Deshalb widmet sich die Autorin Marion Magas auch einem Farbexkurs. Was spielt das Orientalischblau für eine Rolle. Inzwischen befindet sich das Museum in einer Veränderungsphase. Es werden die Bilder des Malers und Grafikers Günter Fink und dessen Frau Helga gezeigt; doch nicht nur Bilder der Finks hängen in der Kunstscheune\, auch Gemälde des 1919 von Henni Lehmann gegründeten Hiddenseer Künstlerinnenbundes werden zur Schau gestellt. \nZur Webseite von Marion Magas
URL:https://meersaal.de/event/die-blaue-scheune-oder-henni-lehmann-kuenstlerdasein-orientalischblau/
LOCATION:Mecklenburg-Vorpommern
CATEGORIES:Lesung
ATTACH;FMTTYPE=image/jpeg:https://meersaal.de/wp-content/uploads/2026/04/MMBS-scaled.jpg
END:VEVENT
BEGIN:VEVENT
DTSTART;TZID=UTC:20260926T190000
DTEND;TZID=UTC:20260926T203000
DTSTAMP:20260422T122850
CREATED:20260421T110532Z
LAST-MODIFIED:20260421T110532Z
UID:1538-1790449200-1790454600@meersaal.de
SUMMARY:Wellentanz – fantasievolle Klangmalerei zum Abheben mit Falk Zenker (Gitarre)
DESCRIPTION:Einer der kreativsten Nylongitarristen des Landes“\, wie Falk Zenker unlängst vom Fachmagazin Akustik Gitarre genannt wurde\,\nverspricht ein inspirierendes Konzerterlebnis\, in dem Räume entstehen für schwereloses Träumen\, atemberaubende Höhenflüge\, heiter-kreative Gedankensprünge und für die Begegnung mit sich selbst.
URL:https://meersaal.de/event/wellentanz-fantasievolle-klangmalerei-zum-abheben-mit-falk-zenker-gitarre-2/
LOCATION:Meersaal\, Schaulbarg 13a\, Hiddensee\, Mecklenburg-Vorpommern\, 18565\, Germany
CATEGORIES:Konzert
ATTACH;FMTTYPE=image/jpeg:https://meersaal.de/wp-content/uploads/2026/04/Falk_2026-scaled.jpg
END:VEVENT
END:VCALENDAR